BEGIN:VCALENDAR
VERSION:2.0
PRODID:-//https://www.denbighchristianacademy.com//NONSGML kigkonsult.se iC
 alcreator 2.29.29//
CALSCALE:GREGORIAN
METHOD:PUBLISH
UID:ad20e25b-4cd2-468e-91de-f9457661b874
X-WR-CALNAME:JCal Pro Calendar
X-WR-CALDESC:Your online events calendar
X-WR-TIMEZONE:UTC
BEGIN:VTIMEZONE
TZID:UTC
END:VTIMEZONE
BEGIN:VEVENT
UID:20210125T190000UTC-1681GhVwmc@http://www.denbighchristianacademy.com/
DTSTAMP:20260425T023252Z
CATEGORIES:DCA Events
DESCRIPTION:<p>Second Semester begins for 4K nad 5K.</p>
DTSTART:20210125T000000Z
DTEND:20210125T235959Z
SUMMARY:Second Semester Begins - (4K-5K)
URL:https://www.denbighchristianacademy.com/index.php/school-calendar/dca-e
 vents/11-dca-events/292-second-semester-begins-4k-5k
X-ALT-DESC;FMTTYPE=TEXT/HTML:<p>Second Semester begins for 4K nad 5K.</p>
END:VEVENT
BEGIN:VEVENT
UID:20210127T190000UTC-9490ag34pj@http://www.denbighchristianacademy.com/
DTSTAMP:20260425T023252Z
CATEGORIES:DCA Events
DESCRIPTION:<p>Second Marking Period Reports issued to 4K nad 5K.</p>
DTSTART:20210127T000000Z
DTEND:20210127T235959Z
SUMMARY:Second Marking Period Reports issued (4K-5K)
URL:https://www.denbighchristianacademy.com/index.php/school-calendar/dca-e
 vents/11-dca-events/293-second-marking-period-reports-issued-4k-5k
X-ALT-DESC;FMTTYPE=TEXT/HTML:<p>Second Marking Period Reports issued to 4K 
 nad 5K.</p>
END:VEVENT
BEGIN:VEVENT
UID:20210129T190000UTC-7738Czwwv8@http://www.denbighchristianacademy.com/
DTSTAMP:20260425T023252Z
CATEGORIES:DCA Events
DESCRIPTION:<p>Students can wear outfit representing a sport.</p>
DTSTART:20210129T000000Z
DTEND:20210129T235959Z
SUMMARY:Sport Day
URL:https://www.denbighchristianacademy.com/index.php/school-calendar/dca-e
 vents/11-dca-events/294-sport-day
X-ALT-DESC;FMTTYPE=TEXT/HTML:<p>Students can wear outfit representing a spo
 rt.</p>
END:VEVENT
END:VCALENDAR
