BEGIN:VCALENDAR
VERSION:2.0
PRODID:-//https://www.denbighchristianacademy.com//NONSGML kigkonsult.se iC
 alcreator 2.29.29//
CALSCALE:GREGORIAN
METHOD:PUBLISH
UID:6c75ed48-c65f-4fca-8ace-70e30ca20d37
X-WR-CALNAME:JCal Pro Calendar
X-WR-CALDESC:Your online events calendar
X-WR-TIMEZONE:UTC
BEGIN:VTIMEZONE
TZID:UTC
END:VTIMEZONE
BEGIN:VEVENT
UID:20210118T190000UTC-19114U0ZHx@http://www.denbighchristianacademy.com/
DTSTAMP:20260425T023308Z
CATEGORIES:DCA Events
DESCRIPTION:<p>All of DCA closed for Martin Luther King Day.</p>
DTSTART:20210118T000000Z
DTEND:20210118T235959Z
SUMMARY:Marting Luther Kind Day - DCA Closed
URL:https://www.denbighchristianacademy.com/index.php/school-calendar/dca-e
 vents/11-dca-events/291-marting-luther-kind-day-dca-closed
X-ALT-DESC;FMTTYPE=TEXT/HTML:<p>All of DCA closed for Martin Luther King Da
 y.</p>
END:VEVENT
BEGIN:VEVENT
UID:20210122T190000UTC-41286XF0xW@http://www.denbighchristianacademy.com/
DTSTAMP:20260425T023308Z
CATEGORIES:DCA Events
DESCRIPTION:<p>Second Marking Period ends for 4K and 5K.</p>
DTSTART:20210122T000000Z
DTEND:20210122T235959Z
SUMMARY:Second Marking Period ends (4K-5K)
URL:https://www.denbighchristianacademy.com/index.php/school-calendar/dca-e
 vents/11-dca-events/290-second-marking-period-ends-4k-5k
X-ALT-DESC;FMTTYPE=TEXT/HTML:<p>Second Marking Period ends for 4K and 5K.</
 p>
END:VEVENT
END:VCALENDAR
