BEGIN:VCALENDAR
VERSION:2.0
PRODID:-//https://www.denbighchristianacademy.com//NONSGML kigkonsult.se iC
 alcreator 2.29.29//
CALSCALE:GREGORIAN
METHOD:PUBLISH
UID:7d6aeffb-e64f-4bda-bc4b-60215cef52be
X-WR-CALNAME:JCal Pro Calendar
X-WR-CALDESC:Your online events calendar
X-WR-TIMEZONE:UTC
BEGIN:VTIMEZONE
TZID:UTC
END:VTIMEZONE
BEGIN:VEVENT
UID:20200522T060000UTC-4226Vsaede@http://dca.37west.com/
DTSTAMP:20260424T234120Z
CATEGORIES:DCA Events
DTSTART:20200522T000000Z
DTEND:20200522T235959Z
SUMMARY:Pajama Day
URL:https://www.denbighchristianacademy.com/index.php/school-calendar/dca-e
 vents/11-dca-events/53-pajama-day
END:VEVENT
END:VCALENDAR
