BEGIN:VCALENDAR
VERSION:2.0
PRODID:-//https://www.denbighchristianacademy.com//NONSGML kigkonsult.se iC
 alcreator 2.29.29//
CALSCALE:GREGORIAN
METHOD:PUBLISH
UID:f60d63bc-11bc-4a3b-92b2-c3b9ffd04c7e
X-WR-CALNAME:JCal Pro Calendar
X-WR-CALDESC:Your online events calendar
X-WR-TIMEZONE:UTC
BEGIN:VTIMEZONE
TZID:UTC
END:VTIMEZONE
BEGIN:VEVENT
UID:20200430T170000UTC-7988rUuduP@http://dca.37west.com/
DTSTAMP:20260424T221019Z
CATEGORIES:DCA Events
DTSTART:20200430T000000Z
DTEND:20200430T235959Z
SUMMARY:Cancelled - Grandparent’s Day
URL:https://www.denbighchristianacademy.com/index.php/school-calendar/dca-e
 vents/11-dca-events/49-grandparent-s-day
END:VEVENT
END:VCALENDAR
