BEGIN:VCALENDAR
VERSION:2.0
PRODID:-//https://www.denbighchristianacademy.com//NONSGML kigkonsult.se iC
 alcreator 2.29.29//
CALSCALE:GREGORIAN
METHOD:PUBLISH
UID:8ed6b709-6a90-496a-acb9-2ced850830b7
X-WR-CALNAME:JCal Pro Calendar
X-WR-CALDESC:Your online events calendar
X-WR-TIMEZONE:UTC
BEGIN:VTIMEZONE
TZID:UTC
END:VTIMEZONE
BEGIN:VEVENT
UID:20230102T180000UTC-9990Zr7Aru@https://www.denbighchristianacademy.com/
DTSTAMP:20260425T025705Z
CATEGORIES:DCA Events
DTSTART:20230102T000000Z
DTEND:20230102T235959Z
SUMMARY:DCA CLOSED
URL:https://www.denbighchristianacademy.com/index.php/school-calendar/dca-e
 vents/11-dca-events/966-school-reopens
END:VEVENT
BEGIN:VEVENT
UID:20230103T140000UTC-9512tuNtNI@https://www.denbighchristianacademy.com/
DTSTAMP:20260425T025705Z
CATEGORIES:DCA Events
DESCRIPTION:<p>School Reopens</p>
DTSTART:20230103T000000Z
DTEND:20230103T235959Z
SUMMARY:School Reopens
URL:https://www.denbighchristianacademy.com/index.php/school-calendar/dca-e
 vents/11-dca-events/1055-tuesday
X-ALT-DESC;FMTTYPE=TEXT/HTML:<p>School Reopens</p>
END:VEVENT
BEGIN:VEVENT
UID:20230116T180000UTC-5502ATetBX@https://www.denbighchristianacademy.com/
DTSTAMP:20260425T025705Z
CATEGORIES:DCA Events
DESCRIPTION:<p>All of DCA is CLOSED in observance of Martin Luther King Day
 </p>
DTSTART:20230116T000000Z
DTEND:20230116T235959Z
SUMMARY:Martin Luther King Day - All of DCA CLOSED
URL:https://www.denbighchristianacademy.com/index.php/school-calendar/dca-e
 vents/11-dca-events/967-martin-luther-king-day-all-of-dca-closed
X-ALT-DESC;FMTTYPE=TEXT/HTML:<p>All of DCA is CLOSED in observance of Marti
 n Luther King Day</p>
END:VEVENT
BEGIN:VEVENT
UID:20230120T180000UTC-3354HDv9nl@https://www.denbighchristianacademy.com/
DTSTAMP:20260425T025705Z
CATEGORIES:DCA Events
DESCRIPTION:<p>2nd Marking period ends today for 4K and 5K. Reports will go
  home January 25. Please sign and return.</p>
DTSTART:20230120T000000Z
DTEND:20230120T235959Z
SUMMARY:Second Marking Period ends (4K-5K)
URL:https://www.denbighchristianacademy.com/index.php/school-calendar/dca-e
 vents/11-dca-events/968-second-marking-period-ends-4k-5k
X-ALT-DESC;FMTTYPE=TEXT/HTML:<p>2nd Marking period ends today for 4K and 5K
 . Reports will go home January 25. Please sign and return.</p>
END:VEVENT
BEGIN:VEVENT
UID:20220915T180000UTC-2265uSaB1D@https://www.denbighchristianacademy.com/
DTSTAMP:20260425T025705Z
CATEGORIES:DCA Events
DTSTART:20230123T000000Z
DTEND:20230123T235959Z
SUMMARY:Second Semester begins
URL:https://www.denbighchristianacademy.com/index.php/school-calendar/dca-e
 vents/11-dca-events/969-second-semester-begins
END:VEVENT
BEGIN:VEVENT
UID:20230125T060000UTC-8202LTG0bH@https://www.denbighchristianacademy.com/
DTSTAMP:20260425T025705Z
CATEGORIES:DCA Events
DESCRIPTION:<p>2nd Marking period reports will go home today with 4K and 5K
 . Please sign and return tomorrow.</p>
DTSTART:20230125T000000Z
DTEND:20230125T235959Z
SUMMARY:Second Marking Period Reports issued (4K-5k)
URL:https://www.denbighchristianacademy.com/index.php/school-calendar/dca-e
 vents/11-dca-events/970-second-marking-period-reports-issued-4k-5k
X-ALT-DESC;FMTTYPE=TEXT/HTML:<p>2nd Marking period reports will go home tod
 ay with 4K and 5K. Please sign and return tomorrow.</p>
END:VEVENT
BEGIN:VEVENT
UID:20230127T180000UTC-9640w0LTIo@https://www.denbighchristianacademy.com/
DTSTAMP:20260425T025705Z
CATEGORIES:DCA Events
DESCRIPTION:<p>Students can wear something sports related.</p>
DTSTART:20230127T000000Z
DTEND:20230127T235959Z
SUMMARY:Sport Day
URL:https://www.denbighchristianacademy.com/index.php/school-calendar/dca-e
 vents/11-dca-events/971-sport-day
X-ALT-DESC;FMTTYPE=TEXT/HTML:<p>Students can wear something sports related.
 </p>
END:VEVENT
END:VCALENDAR
