BEGIN:VCALENDAR
VERSION:2.0
PRODID:-//https://www.denbighchristianacademy.com//NONSGML kigkonsult.se iC
 alcreator 2.29.29//
CALSCALE:GREGORIAN
METHOD:PUBLISH
UID:ba8ec299-d5ef-43a9-af50-3d76955fcb44
X-WR-CALNAME:JCal Pro Calendar
X-WR-CALDESC:Your online events calendar
X-WR-TIMEZONE:UTC
BEGIN:VTIMEZONE
TZID:UTC
END:VTIMEZONE
BEGIN:VEVENT
UID:20220923T150000UTC-9006NUjs3U@https://www.denbighchristianacademy.com/
DTSTAMP:20260425T030749Z
CATEGORIES:DCA Events
DTSTART:20220923T000000Z
DTEND:20220923T235959Z
SUMMARY:Crazy Hat Day
URL:https://www.denbighchristianacademy.com/index.php/school-calendar/dca-e
 vents/11-dca-events/949-crazy-hat-day
END:VEVENT
BEGIN:VEVENT
UID:20220930T150000UTC-6359Op5C8P@https://www.denbighchristianacademy.com/
DTSTAMP:20260425T030749Z
CATEGORIES:DCA Events
DESCRIPTION:<p>First Interim period ends today for 4K and 5K. Their interim
 s will go home October 5.</p>
DTSTART:20220930T000000Z
DTEND:20220930T235959Z
SUMMARY:First Interim Period Ends (4K-5K)
URL:https://www.denbighchristianacademy.com/index.php/school-calendar/dca-e
 vents/11-dca-events/950-first-interim-period-ends-4k-5k
X-ALT-DESC;FMTTYPE=TEXT/HTML:<p>First Interim period ends today for 4K and 
 5K. Their interims will go home October 5.</p>
END:VEVENT
END:VCALENDAR
