BEGIN:VCALENDAR
VERSION:2.0
PRODID:-//https://www.denbighchristianacademy.com//NONSGML kigkonsult.se iC
 alcreator 2.29.29//
CALSCALE:GREGORIAN
METHOD:PUBLISH
UID:54380afd-b93b-4bd5-9a17-301e9c0575fd
X-WR-CALNAME:JCal Pro Calendar
X-WR-CALDESC:Your online events calendar
X-WR-TIMEZONE:UTC
BEGIN:VTIMEZONE
TZID:UTC
END:VTIMEZONE
BEGIN:VEVENT
UID:20211105T170000UTC-2991z0O9VI@http://www.denbighchristianacademy.com/
DTSTAMP:20260425T040327Z
CATEGORIES:DCA Events
DESCRIPTION:<p>First Marking Period ends for 4K and 5K.</p>
DTSTART:20211105T000000Z
DTEND:20211105T235959Z
SUMMARY:1st Marking Period ends (4K-5K)
URL:https://www.denbighchristianacademy.com/index.php/school-calendar/dca-e
 vents/11-dca-events/642-1st-marking-period-ends-4k-5k
X-ALT-DESC;FMTTYPE=TEXT/HTML:<p>First Marking Period ends for 4K and 5K.</p
 >
END:VEVENT
BEGIN:VEVENT
UID:20211110T170000UTC-8855vEn9RB@http://www.denbighchristianacademy.com/
DTSTAMP:20260425T040327Z
CATEGORIES:DCA Events
DESCRIPTION:<p>First Marking Period Reports issued to 4K and 5K.</p>
DTSTART:20211110T000000Z
DTEND:20211110T235959Z
SUMMARY:1st Marking Period Reports issued (4K-5K)
URL:https://www.denbighchristianacademy.com/index.php/school-calendar/dca-e
 vents/11-dca-events/643-1st-marking-period-reports-issued-4k-5k
X-ALT-DESC;FMTTYPE=TEXT/HTML:<p>First Marking Period Reports issued to 4K a
 nd 5K.</p>
END:VEVENT
BEGIN:VEVENT
UID:20211119T170000UTC-9836XBuJjs@http://www.denbighchristianacademy.com/
DTSTAMP:20260425T040327Z
CATEGORIES:DCA Events
DESCRIPTION:<p>Western Day</p>
DTSTART:20211119T000000Z
DTEND:20211119T235959Z
SUMMARY:Western Day
URL:https://www.denbighchristianacademy.com/index.php/school-calendar/dca-e
 vents/11-dca-events/644-western-day
X-ALT-DESC;FMTTYPE=TEXT/HTML:<p>Western Day</p>
END:VEVENT
BEGIN:VEVENT
UID:20211120T170000UTC-7054VA1up4@http://www.denbighchristianacademy.com/
DTSTAMP:20260425T040327Z
CATEGORIES:DCA Events
DESCRIPTION:<p>Founder's Day in Honor of Dorothy B. Collins<br />TBA</p>
DTSTART:20211120T110000Z
DTEND:20211120T110000Z
SUMMARY:Founder's Day in Honor of Dorothy B. Collins
URL:https://www.denbighchristianacademy.com/index.php/school-calendar/dca-e
 vents/11-dca-events/645-founder-s-day-in-honor-of-dorothy-b-collins
X-ALT-DESC;FMTTYPE=TEXT/HTML:<p>Founder's Day in Honor of Dorothy B. Collin
 s<br />TBA</p>
END:VEVENT
BEGIN:VEVENT
UID:20211125T060000UTC-1811BTgU1v@http://www.denbighchristianacademy.com/
DTSTAMP:20260425T040327Z
CATEGORIES:DCA Events
DESCRIPTION:<p>Thanksgiving Holiday - All of DCA Closed</p>
DTSTART:20211125T060000Z
DTEND:20211126T180000Z
SUMMARY:Thanksgiving Holiday - All of DCA CLOSED
URL:https://www.denbighchristianacademy.com/index.php/school-calendar/dca-e
 vents/11-dca-events/651-thanksgiving-holiday-all-of-dca-closed
X-ALT-DESC;FMTTYPE=TEXT/HTML:<p>Thanksgiving Holiday - All of DCA Closed</p
 >
END:VEVENT
END:VCALENDAR
