BEGIN:VCALENDAR
VERSION:2.0
PRODID:-//https://www.denbighchristianacademy.com//NONSGML kigkonsult.se iC
 alcreator 2.29.29//
CALSCALE:GREGORIAN
METHOD:PUBLISH
UID:2ff1d3b8-2901-4790-883b-0c5d25da091c
X-WR-CALNAME:JCal Pro Calendar
X-WR-CALDESC:Your online events calendar
X-WR-TIMEZONE:UTC
BEGIN:VTIMEZONE
TZID:UTC
END:VTIMEZONE
BEGIN:VEVENT
UID:20210906T160000UTC-2598vpU6iW@http://www.denbighchristianacademy.com/
DTSTAMP:20260425T030622Z
CATEGORIES:DCA Events
DESCRIPTION:<p>DCA closed for Labor Day</p>
DTSTART:20210906T000000Z
DTEND:20210906T235959Z
SUMMARY:Labor Day - DCA Closed
URL:https://www.denbighchristianacademy.com/index.php/school-calendar/dca-e
 vents/11-dca-events/632-labor-day-dca-closed
X-ALT-DESC;FMTTYPE=TEXT/HTML:<p>DCA closed for Labor Day</p>
END:VEVENT
BEGIN:VEVENT
UID:20210907T160000UTC-6944SlxVOV@http://www.denbighchristianacademy.com/
DTSTAMP:20260425T030622Z
CATEGORIES:DCA Events
DESCRIPTION:<p>First Day of School for fall semester.</p>
DTSTART:20210907T000000Z
DTEND:20210907T235959Z
SUMMARY:1st Day of School
URL:https://www.denbighchristianacademy.com/index.php/school-calendar/dca-e
 vents/11-dca-events/633-1st-day-of-school
X-ALT-DESC;FMTTYPE=TEXT/HTML:<p>First Day of School for fall semester.</p>
END:VEVENT
BEGIN:VEVENT
UID:20210924T160000UTC-7869iIKsJa@http://www.denbighchristianacademy.com/
DTSTAMP:20260425T030622Z
CATEGORIES:DCA Events
DESCRIPTION:<p>Crazy Hat Day</p>
DTSTART:20210924T000000Z
DTEND:20210924T235959Z
SUMMARY:Crazy Hat Day
URL:https://www.denbighchristianacademy.com/index.php/school-calendar/dca-e
 vents/11-dca-events/634-crazy-hat-day
X-ALT-DESC;FMTTYPE=TEXT/HTML:<p>Crazy Hat Day</p>
END:VEVENT
END:VCALENDAR
