BEGIN:VCALENDAR
VERSION:2.0
PRODID:-//https://www.denbighchristianacademy.com//NONSGML kigkonsult.se iC
 alcreator 2.29.29//
CALSCALE:GREGORIAN
METHOD:PUBLISH
UID:8b6031fc-d43e-43f2-b1fd-8da4d44db49b
X-WR-CALNAME:JCal Pro Calendar
X-WR-CALDESC:Your online events calendar
X-WR-TIMEZONE:UTC
BEGIN:VTIMEZONE
TZID:UTC
END:VTIMEZONE
BEGIN:VEVENT
UID:20201210T190000UTC-521270no4K@http://www.denbighchristianacademy.com/
DTSTAMP:20260424T204823Z
CATEGORIES:DCA Events
DESCRIPTION:<p>The Christmas Program is cancelled due to Covid-19</p>
DTSTART:20201210T193000Z
DTEND:20201210T203000Z
SUMMARY:Cancelled - Christmas Program 7:30 pm
URL:https://www.denbighchristianacademy.com/index.php/school-calendar/dca-e
 vents/11-dca-events/267-dca-christmas-program-7-30-pm
X-ALT-DESC;FMTTYPE=TEXT/HTML:<p>The Christmas Program is cancelled due to C
 ovid-19</p>
END:VEVENT
BEGIN:VEVENT
UID:20201218T190000UTC-7527STVuDv@http://www.denbighchristianacademy.com/
DTSTAMP:20260424T204823Z
CATEGORIES:DCA Events
DESCRIPTION:<p>2nd Interim Period ends<br />for 4K and 5K.</p>
DTSTART:20201218T000000Z
DTEND:20201218T235959Z
SUMMARY:Second Interim Period ends (4K-5K)
URL:https://www.denbighchristianacademy.com/index.php/school-calendar/dca-e
 vents/11-dca-events/268-second-interim-period-ends-4k-5k
X-ALT-DESC;FMTTYPE=TEXT/HTML:<p>2nd Interim Period ends<br />for 4K and 5K.
 </p>
END:VEVENT
BEGIN:VEVENT
UID:20201218T190000UTC-3484oMS7pN@http://www.denbighchristianacademy.com/
DTSTAMP:20260424T204823Z
CATEGORIES:DCA Events
DESCRIPTION:<p>Wear Red and Green clothing today.</p>
DTSTART:20201218T000000Z
DTEND:20201218T235959Z
SUMMARY:Red and Green Day
URL:https://www.denbighchristianacademy.com/index.php/school-calendar/dca-e
 vents/11-dca-events/269-red-and-green-day
X-ALT-DESC;FMTTYPE=TEXT/HTML:<p>Wear Red and Green clothing today.</p>
END:VEVENT
BEGIN:VEVENT
UID:20200524T190000UTC-5013zunxA8@http://www.denbighchristianacademy.com/
DTSTAMP:20260424T204823Z
CATEGORIES:DCA Events
DESCRIPTION:<p>DCA closed for Christmas Eve.</p>
DTSTART:20201224T000000Z
DTEND:20201224T235959Z
SUMMARY:Christmas Eve - DCA Closed
URL:https://www.denbighchristianacademy.com/index.php/school-calendar/dca-e
 vents/11-dca-events/270-christmas-holidays-dca-closed
X-ALT-DESC;FMTTYPE=TEXT/HTML:<p>DCA closed for Christmas Eve.</p>
END:VEVENT
BEGIN:VEVENT
UID:20201225T190000UTC-1063blfuZD@http://www.denbighchristianacademy.com/
DTSTAMP:20260424T204823Z
CATEGORIES:DCA Events
DESCRIPTION:<p>DCA closed for Christmas Day.</p>
DTSTART:20201225T000000Z
DTEND:20201225T235959Z
SUMMARY:Christmas Day - DCA Closed
URL:https://www.denbighchristianacademy.com/index.php/school-calendar/dca-e
 vents/11-dca-events/277-christmas-day-dca-closed
X-ALT-DESC;FMTTYPE=TEXT/HTML:<p>DCA closed for Christmas Day.</p>
END:VEVENT
BEGIN:VEVENT
UID:20201228T190000UTC-64464aoukw@http://www.denbighchristianacademy.com/
DTSTAMP:20260424T204823Z
CATEGORIES:DCA Events
DESCRIPTION:<p>DCA closed for Christmas Holiday.</p>
DTSTART:20201228T000000Z
DTEND:20201228T235959Z
SUMMARY:Christmas Holiday - DCA Closed
URL:https://www.denbighchristianacademy.com/index.php/school-calendar/dca-e
 vents/11-dca-events/278-christmas-holiday-dca-closed
X-ALT-DESC;FMTTYPE=TEXT/HTML:<p>DCA closed for Christmas Holiday.</p>
END:VEVENT
BEGIN:VEVENT
UID:20201229T190000UTC-2558FVvBA1@http://www.denbighchristianacademy.com/
DTSTAMP:20260424T204823Z
CATEGORIES:DCA Events
DESCRIPTION:<p>DCA closed for Christmas holiday.</p>
DTSTART:20201229T000000Z
DTEND:20201229T235959Z
SUMMARY:Christmas Holiday - DCA Closed
URL:https://www.denbighchristianacademy.com/index.php/school-calendar/dca-e
 vents/11-dca-events/279-christmas-holiday-dca-closed
X-ALT-DESC;FMTTYPE=TEXT/HTML:<p>DCA closed for Christmas holiday.</p>
END:VEVENT
BEGIN:VEVENT
UID:20201229T190000UTC-8130uK56CC@http://www.denbighchristianacademy.com/
DTSTAMP:20260424T204823Z
CATEGORIES:DCA Events
DESCRIPTION:<p>DCA closed for Christmas holiday.</p>
DTSTART:20201230T000000Z
DTEND:20201230T235959Z
SUMMARY:Christmas Holiday - DCA Closed
URL:https://www.denbighchristianacademy.com/index.php/school-calendar/dca-e
 vents/11-dca-events/280-christmas-holiday-dca-closed
X-ALT-DESC;FMTTYPE=TEXT/HTML:<p>DCA closed for Christmas holiday.</p>
END:VEVENT
BEGIN:VEVENT
UID:20201231T190000UTC-6293oP5kiA@http://www.denbighchristianacademy.com/
DTSTAMP:20260424T204823Z
CATEGORIES:DCA Events
DESCRIPTION:<p>DCA closed for Christmas holiday.</p>
DTSTART:20201231T000000Z
DTEND:20201231T235959Z
SUMMARY:Christmas Holiday - DCA Closed
URL:https://www.denbighchristianacademy.com/index.php/school-calendar/dca-e
 vents/11-dca-events/281-christmas-holiday-dca-closed
X-ALT-DESC;FMTTYPE=TEXT/HTML:<p>DCA closed for Christmas holiday.</p>
END:VEVENT
END:VCALENDAR
