BEGIN:VCALENDAR
VERSION:2.0
PRODID:-//https://www.denbighchristianacademy.com//NONSGML kigkonsult.se iC
 alcreator 2.29.29//
CALSCALE:GREGORIAN
METHOD:PUBLISH
UID:7074b7d7-7148-4fd9-9999-22b632502937
X-WR-CALNAME:JCal Pro Calendar
X-WR-CALDESC:Your online events calendar
X-WR-TIMEZONE:UTC
BEGIN:VTIMEZONE
TZID:UTC
END:VTIMEZONE
BEGIN:VEVENT
UID:20200504T070000UTC-9872a22Dm4@http://dca.37west.com/
DTSTAMP:20260424T220917Z
CATEGORIES:DCA Events
DTSTART:20200504T070000Z
DTEND:20200508T183600Z
SUMMARY:National Teacher Appreciation Week
URL:https://www.denbighchristianacademy.com/index.php/school-calendar/dca-e
 vents/11-dca-events/50-national-teacher-appreciation-week
END:VEVENT
BEGIN:VEVENT
UID:20200508T060000UTC-2042VkDKvU@http://dca.37west.com/
DTSTAMP:20260424T220917Z
CATEGORIES:DCA Events
DTSTART:20200508T000000Z
DTEND:20200508T235959Z
SUMMARY:Fourth Interim Period ends (4K-5K)
URL:https://www.denbighchristianacademy.com/index.php/school-calendar/dca-e
 vents/11-dca-events/51-fourth-interim-period-ends-4k-5k
END:VEVENT
BEGIN:VEVENT
UID:20200513T060000UTC-6784kxrMsd@http://dca.37west.com/
DTSTAMP:20260424T220917Z
CATEGORIES:DCA Events
DTSTART:20200513T000000Z
DTEND:20200513T235959Z
SUMMARY:Fourth Interim Reports issued (4K-5K)
URL:https://www.denbighchristianacademy.com/index.php/school-calendar/dca-e
 vents/11-dca-events/52-fourth-interim-reports-issued-4k-5k
END:VEVENT
BEGIN:VEVENT
UID:20200522T060000UTC-4226Vsaede@http://dca.37west.com/
DTSTAMP:20260424T220917Z
CATEGORIES:DCA Events
DTSTART:20200522T000000Z
DTEND:20200522T235959Z
SUMMARY:Pajama Day
URL:https://www.denbighchristianacademy.com/index.php/school-calendar/dca-e
 vents/11-dca-events/53-pajama-day
END:VEVENT
BEGIN:VEVENT
UID:20200525T060000UTC-3474T3kpiS@http://dca.37west.com/
DTSTAMP:20260424T220917Z
CATEGORIES:DCA Events
DTSTART:20200525T000000Z
DTEND:20200525T235959Z
SUMMARY:Memorial Day – All of DCA Closed
URL:https://www.denbighchristianacademy.com/index.php/school-calendar/dca-e
 vents/11-dca-events/54-memorial-day-all-of-dca-closed
END:VEVENT
BEGIN:VEVENT
UID:20200529T060000UTC-9020Ncxcit@http://dca.37west.com/
DTSTAMP:20260424T220917Z
CATEGORIES:DCA Events
DTSTART:20200529T000000Z
DTEND:20200529T235959Z
SUMMARY:Cancelled - Field Day
URL:https://www.denbighchristianacademy.com/index.php/school-calendar/dca-e
 vents/11-dca-events/55-field-day
END:VEVENT
END:VCALENDAR
