BEGIN:VCALENDAR
VERSION:2.0
PRODID:-//https://www.denbighchristianacademy.com//NONSGML kigkonsult.se iC
 alcreator 2.29.29//
CALSCALE:GREGORIAN
METHOD:PUBLISH
UID:c9dc3952-eb37-405f-9d9b-c5f956ac4be3
X-WR-CALNAME:JCal Pro Calendar
X-WR-CALDESC:Your online events calendar
X-WR-TIMEZONE:UTC
BEGIN:VTIMEZONE
TZID:UTC
END:VTIMEZONE
BEGIN:VEVENT
UID:20190507T180000UTC-2761wzn2gv@http://dca.37west.com/
DTSTAMP:20260425T014107Z
CATEGORIES:DCA Events
DESCRIPTION:<p>Lets get ready to see the lions and bears!</p>\n<p>Parents\,
  you will need to download the form <span style='text-decoration: underlin
 e\;'><em><strong><a href='files/DCA_1.pdf' target=''>HERE</a></strong></em
 ></span> and return it to the main office before your child will be allowe
 d to go on the field trip.</p>\n<p>&nbsp\;</p>\n<p>&nbsp\;</p>\n<p>&nbsp\;
 </p>\n<p>&nbsp\;</p>\n<p>&nbsp\;</p>\n<p>&nbsp\;</p>\n<p>.</p>
DTSTART:20190802T020000Z
DTEND:20190802T050000Z
SUMMARY:Norfolk Zoo Field Trip
URL:https://www.denbighchristianacademy.com/index.php/school-calendar/dca-e
 vents/11-dca-events/2-norfolk-zoo-field-trip
X-ALT-DESC;FMTTYPE=TEXT/HTML:<p>Lets get ready to see the lions and bears!<
 /p>\n<p>Parents\, you will need to download the form <span style='text-dec
 oration: underline\;'><em><strong><a href='files/DCA_1.pdf' target=''>HERE
 </a></strong></em></span> and return it to the main office before your chi
 ld will be allowed to go on the field trip.</p>\n<p>&nbsp\;</p>\n<p>&nbsp\
 ;</p>\n<p>&nbsp\;</p>\n<p>&nbsp\;</p>\n<p>&nbsp\;</p>\n<p>&nbsp\;</p>\n<p>
 .</p>
END:VEVENT
BEGIN:VEVENT
UID:20190814T090000UTC-8445n6lhnX@http://dca.37west.com/
DTSTAMP:20260425T014107Z
CATEGORIES:DCA Events
DESCRIPTION:<p>2<sup>nd</sup> Grade and Up:</p>\n<p>August 14\, Wednesday</
 p>\n<p>Riverview Park\, Newport News</p>\n<p>Leave 9 am – return around 2 
 pm</p>\n<p>$2\, Bring bag lunch &amp\; bottle of water</p>\n<p>with child’
 s name on them.</p>
DTSTART:20190814T090000Z
DTEND:20190814T140000Z
SUMMARY:Riverview Park\, Newport News
URL:https://www.denbighchristianacademy.com/index.php/school-calendar/dca-e
 vents/11-dca-events/45-riverview-park-newport-news
X-ALT-DESC;FMTTYPE=TEXT/HTML:<p>2<sup>nd</sup> Grade and Up:</p>\n<p>August
  14\, Wednesday</p>\n<p>Riverview Park\, Newport News</p>\n<p>Leave 9 am –
  return around 2 pm</p>\n<p>$2\, Bring bag lunch &amp\; bottle of water</p
 >\n<p>with child’s name on them.</p>
END:VEVENT
BEGIN:VEVENT
UID:20190815T100000UTC-72967OkOWz@http://dca.37west.com/
DTSTAMP:20260425T014107Z
CATEGORIES:DCA Events
DESCRIPTION:<p>5K and 1<sup>st</sup>:</p>\n<p>August 15\, Thursday</p>\n<p>
 Cooking Fun – DCA Premises</p>\n<p>10:00 am</p>\n<p>No cost\, School lunch
  provided</p>
DTSTART:20190815T100000Z
DTEND:20190815T110000Z
SUMMARY:Cooking Fun! 5k & 1st
URL:https://www.denbighchristianacademy.com/index.php/school-calendar/dca-e
 vents/11-dca-events/39-cooking-fun-5k-1st
X-ALT-DESC;FMTTYPE=TEXT/HTML:<p>5K and 1<sup>st</sup>:</p>\n<p>August 15\, 
 Thursday</p>\n<p>Cooking Fun – DCA Premises</p>\n<p>10:00 am</p>\n<p>No co
 st\, School lunch provided</p>
END:VEVENT
BEGIN:VEVENT
UID:20190816T091500UTC-9922IKE5Vs@http://dca.37west.com/
DTSTAMP:20260425T014107Z
CATEGORIES:DCA Events
DESCRIPTION:<p>Preschool:</p>\n<p>August 16\, Friday</p>\n<p>Field Trip to 
 Bounce House\, Williamsburg.</p>\n<p>Leave at 9:15 am – Return around 2:30
  pm</p>\n<p>Cost $12\, Lunch included</p>
DTSTART:20190816T091500Z
DTEND:20190816T143000Z
SUMMARY:Bounce House Field Trip
URL:https://www.denbighchristianacademy.com/index.php/school-calendar/dca-e
 vents/11-dca-events/43-bounce-house-field-trip
X-ALT-DESC;FMTTYPE=TEXT/HTML:<p>Preschool:</p>\n<p>August 16\, Friday</p>\n
 <p>Field Trip to Bounce House\, Williamsburg.</p>\n<p>Leave at 9:15 am – R
 eturn around 2:30 pm</p>\n<p>Cost $12\, Lunch included</p>
END:VEVENT
BEGIN:VEVENT
UID:20190821T083000UTC-5043dzJG14@http://dca.37west.com/
DTSTAMP:20260425T014107Z
CATEGORIES:DCA Events
DESCRIPTION:<p>August 21\, Wednesday</p>\n<p>UNO’s Pizza\, Yorktown</p>\n<p
 >Leave 8:30 am – Return around 12:30 pm</p>\n<p>Cost $7 Each child makes t
 heir own pizza</p>
DTSTART:20190821T083000Z
DTEND:20190821T123000Z
SUMMARY:UNO’s Pizza\, Yorktown
URL:https://www.denbighchristianacademy.com/index.php/school-calendar/dca-e
 vents/11-dca-events/44-uno-s-pizza-yorktown
X-ALT-DESC;FMTTYPE=TEXT/HTML:<p>August 21\, Wednesday</p>\n<p>UNO’s Pizza\,
  Yorktown</p>\n<p>Leave 8:30 am – Return around 12:30 pm</p>\n<p>Cost $7 E
 ach child makes their own pizza</p>
END:VEVENT
BEGIN:VEVENT
UID:20190822T083000UTC-9024RO2eeu@http://dca.37west.com/
DTSTAMP:20260425T014107Z
CATEGORIES:DCA Events
DESCRIPTION:<p>Leave 8:30 am – Return around 1:30 pm<br />Cost $2\, Bring a
  bag lunch and bottle of water<br />With child’s name on them.</p>
DTSTART:20190822T083000Z
DTEND:20190822T133000Z
SUMMARY:Fort Fun\, Huntington Park in Newport News\,
URL:https://www.denbighchristianacademy.com/index.php/school-calendar/dca-e
 vents/11-dca-events/35-fort-fun-huntington-park-in-newport-news
X-ALT-DESC;FMTTYPE=TEXT/HTML:<p>Leave 8:30 am – Return around 1:30 pm<br />
 Cost $2\, Bring a bag lunch and bottle of water<br />With child’s name on 
 them.</p>
END:VEVENT
BEGIN:VEVENT
UID:20190823T093000UTC-2733d2lLgC@http://dca.37west.com/
DTSTAMP:20260425T014107Z
CATEGORIES:DCA Events
DESCRIPTION:<p>August 23\, Friday</p>\n<p>Play Around Family Fun – Yorktown
 </p>\n<p>Leave 9:30 am – Return around 2 pm</p>\n<p>$11 includes mini-golf
  &amp\; laser tag</p>\n<p>Bring bag lunch &amp\; bottle of water</p>\n<p>L
 abeled with child’s name</p>
DTSTART:20190823T093000Z
DTEND:20190823T140000Z
SUMMARY:Play Around Family Fun – Yorktown
URL:https://www.denbighchristianacademy.com/index.php/school-calendar/dca-e
 vents/11-dca-events/42-play-around-family-fun-yorktown
X-ALT-DESC;FMTTYPE=TEXT/HTML:<p>August 23\, Friday</p>\n<p>Play Around Fami
 ly Fun – Yorktown</p>\n<p>Leave 9:30 am – Return around 2 pm</p>\n<p>$11 i
 ncludes mini-golf &amp\; laser tag</p>\n<p>Bring bag lunch &amp\; bottle o
 f water</p>\n<p>Labeled with child’s name</p>
END:VEVENT
BEGIN:VEVENT
UID:20190826T190000UTC-1164pZwEC3@http://dca.37west.com/
DTSTAMP:20260425T014107Z
CATEGORIES:DCA Events
DTSTART:20190826T190000Z
DTEND:20190826T200000Z
SUMMARY:Back to School Orientation
URL:https://www.denbighchristianacademy.com/index.php/school-calendar/dca-e
 vents/11-dca-events/3-back-to-school-orientation
END:VEVENT
BEGIN:VEVENT
UID:20190830T120000UTC-5051UK0vBB@http://dca.37west.com/
DTSTAMP:20260425T014107Z
CATEGORIES:DCA Events
DESCRIPTION:<p>ALL GRADES:</p>\n<p>August 30\, Friday</p>\n<p>End of Summer
  Party</p>\n<p>12:00 Noon</p>\n<p>DCA Premises</p>
DTSTART:20190830T120000Z
DTEND:20190830T130000Z
SUMMARY:End of Summer Party!
URL:https://www.denbighchristianacademy.com/index.php/school-calendar/dca-e
 vents/11-dca-events/41-end-of-summer-party
X-ALT-DESC;FMTTYPE=TEXT/HTML:<p>ALL GRADES:</p>\n<p>August 30\, Friday</p>
 \n<p>End of Summer Party</p>\n<p>12:00 Noon</p>\n<p>DCA Premises</p>
END:VEVENT
END:VCALENDAR
