BEGIN:VCALENDAR
VERSION:2.0
PRODID:-//https://www.denbighchristianacademy.com//NONSGML kigkonsult.se iC
 alcreator 2.29.29//
CALSCALE:GREGORIAN
METHOD:PUBLISH
UID:794bdf14-ca69-47f5-8c32-f120fb7acb7d
X-WR-CALNAME:JCal Pro Calendar
X-WR-CALDESC:Your online events calendar
X-WR-TIMEZONE:UTC
BEGIN:VTIMEZONE
TZID:UTC
END:VTIMEZONE
BEGIN:VEVENT
UID:20260331T140000UTC-4821XH2Vsk@https://www.denbighchristianacademy.com/
DTSTAMP:20260424T022052Z
CATEGORIES:DCA Events
DESCRIPTION:<p>The 2 and 2 1/2 year old classes will have student and class
  photos taken today beginning about 8:30.</p>
DTSTART:20260331T000000Z
DTEND:20260331T235959Z
SUMMARY:2 & 2 1/2 Yr. Student Photos
URL:https://www.denbighchristianacademy.com/index.php/school-calendar/dca-e
 vents/11-dca-events/1803-2-2-1-2-yr-student-photos
X-ALT-DESC;FMTTYPE=TEXT/HTML:<p>The 2 and 2 1/2 year old classes will have 
 student and class photos taken today beginning about 8:30.</p>
END:VEVENT
END:VCALENDAR
