BEGIN:VCALENDAR
VERSION:2.0
PRODID:-//https://www.denbighchristianacademy.com//NONSGML kigkonsult.se iC
 alcreator 2.29.29//
CALSCALE:GREGORIAN
METHOD:PUBLISH
UID:e9726160-e366-4369-bdf9-f7245cbcc7ef
X-WR-CALNAME:JCal Pro Calendar
X-WR-CALDESC:Your online events calendar
X-WR-TIMEZONE:UTC
BEGIN:VTIMEZONE
TZID:UTC
END:VTIMEZONE
BEGIN:VEVENT
UID:20240119T060000UTC-6653BEt6LT@https://www.denbighchristianacademy.com/
DTSTAMP:20260425T043445Z
CATEGORIES:DCA Events
DESCRIPTION:<p>The Second Marking Period ends today for 4K and 5K.</p>
DTSTART:20240119T000000Z
DTEND:20240119T235959Z
SUMMARY:2nd Marking Period ends (4K-5K)
URL:https://www.denbighchristianacademy.com/index.php/school-calendar/dca-e
 vents/11-dca-events/1199-2nd-marking-period-ends-4k-5k
X-ALT-DESC;FMTTYPE=TEXT/HTML:<p>The Second Marking Period ends today for 4K
  and 5K.</p>
END:VEVENT
END:VCALENDAR
