BEGIN:VCALENDAR
VERSION:2.0
PRODID:-//https://www.denbighchristianacademy.com//NONSGML kigkonsult.se iC
 alcreator 2.29.29//
CALSCALE:GREGORIAN
METHOD:PUBLISH
UID:3ac363a6-a041-4d97-995e-201867272c88
X-WR-CALNAME:JCal Pro Calendar
X-WR-CALDESC:Your online events calendar
X-WR-TIMEZONE:UTC
BEGIN:VTIMEZONE
TZID:UTC
END:VTIMEZONE
BEGIN:VEVENT
UID:20220915T180000UTC-2265uSaB1D@https://www.denbighchristianacademy.com/
DTSTAMP:20260425T030916Z
CATEGORIES:DCA Events
DTSTART:20230123T000000Z
DTEND:20230123T235959Z
SUMMARY:Second Semester begins
URL:https://www.denbighchristianacademy.com/index.php/school-calendar/dca-e
 vents/11-dca-events/969-second-semester-begins
END:VEVENT
END:VCALENDAR
