BEGIN:VCALENDAR
VERSION:2.0
PRODID:-//https://www.denbighchristianacademy.com//NONSGML kigkonsult.se iC
 alcreator 2.29.29//
CALSCALE:GREGORIAN
METHOD:PUBLISH
UID:4644cc9b-b932-401a-a8a7-376ff7181f7a
X-WR-CALNAME:JCal Pro Calendar
X-WR-CALDESC:Your online events calendar
X-WR-TIMEZONE:UTC
BEGIN:VTIMEZONE
TZID:UTC
END:VTIMEZONE
BEGIN:VEVENT
UID:20221216T170000UTC-2798okf7OF@https://www.denbighchristianacademy.com/
DTSTAMP:20260425T030107Z
CATEGORIES:DCA Events
DESCRIPTION:<p>Wear red and green today just for fun.</p>
DTSTART:20221216T000000Z
DTEND:20221216T235959Z
SUMMARY:Red and Green Day
URL:https://www.denbighchristianacademy.com/index.php/school-calendar/dca-e
 vents/11-dca-events/963-red-and-green-day
X-ALT-DESC;FMTTYPE=TEXT/HTML:<p>Wear red and green today just for fun.</p>
END:VEVENT
END:VCALENDAR
