BEGIN:VCALENDAR
VERSION:2.0
PRODID:-//https://www.denbighchristianacademy.com//NONSGML kigkonsult.se iC
 alcreator 2.29.29//
CALSCALE:GREGORIAN
METHOD:PUBLISH
UID:c409813c-a4c2-4bd5-af08-cadef268e087
X-WR-CALNAME:JCal Pro Calendar
X-WR-CALDESC:Your online events calendar
X-WR-TIMEZONE:UTC
BEGIN:VTIMEZONE
TZID:UTC
END:VTIMEZONE
BEGIN:VEVENT
UID:20221102T170000UTC-71466XrEZl@https://www.denbighchristianacademy.com/
DTSTAMP:20260425T030916Z
CATEGORIES:DCA Events
DESCRIPTION:<p>4K and 5K 1st Marking period reports will go home today. Ple
 ase sign and return tomorrow.</p>
DTSTART:20221102T000000Z
DTEND:20221102T235959Z
SUMMARY:First Marking Period Reports issued (4K-5K)
URL:https://www.denbighchristianacademy.com/index.php/school-calendar/dca-e
 vents/11-dca-events/957-first-marking-period-reports-issued-4k-5k
X-ALT-DESC;FMTTYPE=TEXT/HTML:<p>4K and 5K 1st Marking period reports will g
 o home today. Please sign and return tomorrow.</p>
END:VEVENT
END:VCALENDAR
