BEGIN:VCALENDAR
VERSION:2.0
PRODID:-//https://www.denbighchristianacademy.com//NONSGML kigkonsult.se iC
 alcreator 2.29.29//
CALSCALE:GREGORIAN
METHOD:PUBLISH
UID:d3e2cf8b-6408-4141-9462-f4e63cf5060b
X-WR-CALNAME:JCal Pro Calendar
X-WR-CALDESC:Your online events calendar
X-WR-TIMEZONE:UTC
BEGIN:VTIMEZONE
TZID:UTC
END:VTIMEZONE
BEGIN:VEVENT
UID:20220928T160000UTC-6541kcWIkV@https://www.denbighchristianacademy.com/
DTSTAMP:20260425T042123Z
CATEGORIES:DCA Events
DESCRIPTION:<p>1st Marking period ends today for 4K and 5K. Reports will go
  home November 2.</p>
DTSTART:20221028T000000Z
DTEND:20221028T235959Z
SUMMARY:First Marking Period ends (4K-5k)
URL:https://www.denbighchristianacademy.com/index.php/school-calendar/dca-e
 vents/11-dca-events/955-first-marking-period-ends-4k-5k
X-ALT-DESC;FMTTYPE=TEXT/HTML:<p>1st Marking period ends today for 4K and 5K
 . Reports will go home November 2.</p>
END:VEVENT
END:VCALENDAR
