BEGIN:VCALENDAR
VERSION:2.0
PRODID:-//https://www.denbighchristianacademy.com//NONSGML kigkonsult.se iC
 alcreator 2.29.29//
CALSCALE:GREGORIAN
METHOD:PUBLISH
UID:8816483a-89b0-4270-9260-3c858b2edda1
X-WR-CALNAME:JCal Pro Calendar
X-WR-CALDESC:Your online events calendar
X-WR-TIMEZONE:UTC
BEGIN:VTIMEZONE
TZID:UTC
END:VTIMEZONE
BEGIN:VEVENT
UID:20221026T083000UTC-5675xaArxW@https://www.denbighchristianacademy.com/
DTSTAMP:20260425T042126Z
CATEGORIES:DCA Events
DESCRIPTION:<p>3 year - 5K individual and class photos will be taken today 
 beginning at 8:30 a.m. There will be 2 photographers each doing a differen
 t age so as not to take so long.&nbsp\;</p>
DTSTART:20221026T083000Z
DTEND:20221026T093000Z
SUMMARY:3 year - 5K ind. Photos & Class Photos will be taken today
URL:https://www.denbighchristianacademy.com/index.php/school-calendar/dca-e
 vents/11-dca-events/954-3-year-5k-ind-photos-class-photos-will-be-taken-to
 day
X-ALT-DESC;FMTTYPE=TEXT/HTML:<p>3 year - 5K individual and class photos wil
 l be taken today beginning at 8:30 a.m. There will be 2 photographers each
  doing a different age so as not to take so long.&nbsp\;</p>
END:VEVENT
END:VCALENDAR
