BEGIN:VCALENDAR
VERSION:2.0
PRODID:-//https://www.denbighchristianacademy.com//NONSGML kigkonsult.se iC
 alcreator 2.29.29//
CALSCALE:GREGORIAN
METHOD:PUBLISH
UID:ba6be9f5-72ea-43fc-9def-caad658bfddb
X-WR-CALNAME:JCal Pro Calendar
X-WR-CALDESC:Your online events calendar
X-WR-TIMEZONE:UTC
BEGIN:VTIMEZONE
TZID:UTC
END:VTIMEZONE
BEGIN:VEVENT
UID:20221025T083000UTC-1341Ufe0Dj@https://www.denbighchristianacademy.com/
DTSTAMP:20260425T042127Z
CATEGORIES:DCA Events
DESCRIPTION:<p>Pictures for our 2 to 2 1/2 year olds will begin at 8:30 and
  end once all photos have been taken. Class pictures will also be taken.</
 p>
DTSTART:20221025T083000Z
DTEND:20221025T093000Z
SUMMARY:2-2 1/2 Year Preschool Individual Student Photos & Class Pictures
URL:https://www.denbighchristianacademy.com/index.php/school-calendar/dca-e
 vents/11-dca-events/953-2-2-1-2-year-preschool-individual-student-photos-c
 lass-pictures
X-ALT-DESC;FMTTYPE=TEXT/HTML:<p>Pictures for our 2 to 2 1/2 year olds will 
 begin at 8:30 and end once all photos have been taken. Class pictures will
  also be taken.</p>
END:VEVENT
END:VCALENDAR
