BEGIN:VCALENDAR
VERSION:2.0
PRODID:-//https://www.denbighchristianacademy.com//NONSGML kigkonsult.se iC
 alcreator 2.29.29//
CALSCALE:GREGORIAN
METHOD:PUBLISH
UID:a69d507a-638b-46b3-a8a4-05e2d6cb20dc
X-WR-CALNAME:JCal Pro Calendar
X-WR-CALDESC:Your online events calendar
X-WR-TIMEZONE:UTC
BEGIN:VTIMEZONE
TZID:UTC
END:VTIMEZONE
BEGIN:VEVENT
UID:20221005T150000UTC-3126pWDvvN@https://www.denbighchristianacademy.com/
DTSTAMP:20260425T030922Z
CATEGORIES:DCA Events
DESCRIPTION:<p>1st Interim Reporst will go home today for 4 and 5 year kind
 ergarten. Please sign and return the next day.</p>
DTSTART:20221005T000000Z
DTEND:20221005T235959Z
SUMMARY:First Interim Reports Issued (4K-5K)
URL:https://www.denbighchristianacademy.com/index.php/school-calendar/dca-e
 vents/11-dca-events/951-first-interim-reports-issued-4k-5k
X-ALT-DESC;FMTTYPE=TEXT/HTML:<p>1st Interim Reporst will go home today for 
 4 and 5 year kindergarten. Please sign and return the next day.</p>
END:VEVENT
END:VCALENDAR
