BEGIN:VCALENDAR
VERSION:2.0
PRODID:-//https://www.denbighchristianacademy.com//NONSGML kigkonsult.se iC
 alcreator 2.29.29//
CALSCALE:GREGORIAN
METHOD:PUBLISH
UID:744232a9-0435-4f18-9386-5272fda19d34
X-WR-CALNAME:JCal Pro Calendar
X-WR-CALDESC:Your online events calendar
X-WR-TIMEZONE:UTC
BEGIN:VTIMEZONE
TZID:UTC
END:VTIMEZONE
BEGIN:VEVENT
UID:20220126T070000UTC-808831E0u1@http://www.denbighchristianacademy.com/
DTSTAMP:20260425T030914Z
CATEGORIES:DCA Events
DESCRIPTION:<p>Second Marking Period Reports will go home today with 4K and
  5K.</p>
DTSTART:20220126T000000Z
DTEND:20220126T235959Z
SUMMARY:2nd Marking Period Reports issued (4K-5K)
URL:https://www.denbighchristianacademy.com/index.php/school-calendar/dca-e
 vents/11-dca-events/661-2nd-marking-period-reports-issued-4k-5k
X-ALT-DESC;FMTTYPE=TEXT/HTML:<p>Second Marking Period Reports will go home 
 today with 4K and 5K.</p>
END:VEVENT
END:VCALENDAR
