BEGIN:VCALENDAR
VERSION:2.0
PRODID:-//https://www.denbighchristianacademy.com//NONSGML kigkonsult.se iC
 alcreator 2.29.29//
CALSCALE:GREGORIAN
METHOD:PUBLISH
UID:500b8f9a-9ba2-45cb-937f-853b01f2d037
X-WR-CALNAME:JCal Pro Calendar
X-WR-CALDESC:Your online events calendar
X-WR-TIMEZONE:UTC
BEGIN:VTIMEZONE
TZID:UTC
END:VTIMEZONE
BEGIN:VEVENT
UID:20220117T180000UTC-9803ETsUxV@http://www.denbighchristianacademy.com/
DTSTAMP:20260425T042124Z
CATEGORIES:DCA Events
DESCRIPTION:<p>All of DCA is closed for Martin Luther King Day.</p>
DTSTART:20220117T000000Z
DTEND:20220117T235959Z
SUMMARY:Martin Luther King Day - All of DCA CLOSED
URL:https://www.denbighchristianacademy.com/index.php/school-calendar/dca-e
 vents/11-dca-events/658-martin-luther-king-day-all-of-dca-closed
X-ALT-DESC;FMTTYPE=TEXT/HTML:<p>All of DCA is closed for Martin Luther King
  Day.</p>
END:VEVENT
END:VCALENDAR
