BEGIN:VCALENDAR
VERSION:2.0
PRODID:-//https://www.denbighchristianacademy.com//NONSGML kigkonsult.se iC
 alcreator 2.29.29//
CALSCALE:GREGORIAN
METHOD:PUBLISH
UID:dc88c9e5-6176-4be9-a1ae-f08617423e20
X-WR-CALNAME:JCal Pro Calendar
X-WR-CALDESC:Your online events calendar
X-WR-TIMEZONE:UTC
BEGIN:VTIMEZONE
TZID:UTC
END:VTIMEZONE
BEGIN:VEVENT
UID:20211020T083000UTC-4363jJLMBG@http://www.denbighchristianacademy.com/
DTSTAMP:20260425T030916Z
CATEGORIES:DCA Events
DESCRIPTION:<p>Individual and class photos will begin at 8:30 a.m. in the g
 ym.</p>
DTSTART:20211019T083000Z
DTEND:20211019T083000Z
SUMMARY:Individual & Class Photos - (4 & 5 year olds)
URL:https://www.denbighchristianacademy.com/index.php/school-calendar/dca-e
 vents/11-dca-events/639-individual-class-photos-4-5-year-olds
X-ALT-DESC;FMTTYPE=TEXT/HTML:<p>Individual and class photos will begin at 8
 :30 a.m. in the gym.</p>
END:VEVENT
END:VCALENDAR
