BEGIN:VCALENDAR
VERSION:2.0
PRODID:-//https://www.denbighchristianacademy.com//NONSGML kigkonsult.se iC
 alcreator 2.29.29//
CALSCALE:GREGORIAN
METHOD:PUBLISH
UID:e0c2e4e4-0bbd-440e-9bfc-9dce2dd1a478
X-WR-CALNAME:JCal Pro Calendar
X-WR-CALDESC:Your online events calendar
X-WR-TIMEZONE:UTC
BEGIN:VTIMEZONE
TZID:UTC
END:VTIMEZONE
BEGIN:VEVENT
UID:20210611T190000UTC-8897ANUlbF@http://www.denbighchristianacademy.com/
DTSTAMP:20260425T030826Z
CATEGORIES:DCA Events
DESCRIPTION:<p>4K Awards will be presented in the church sanctuary and then
 <br />5K will graduate.</p>
DTSTART:20210611T000000Z
DTEND:20210611T235959Z
SUMMARY:4K Awards and 5K Graduation 10:00 am
URL:https://www.denbighchristianacademy.com/index.php/school-calendar/dca-e
 vents/11-dca-events/332-4k-awards-and-5k-graduation-10-00-am
X-ALT-DESC;FMTTYPE=TEXT/HTML:<p>4K Awards will be presented in the church s
 anctuary and then<br />5K will graduate.</p>
END:VEVENT
BEGIN:VEVENT
UID:20210611T190000UTC-246855mlh1@http://www.denbighchristianacademy.com/
DTSTAMP:20260425T030826Z
CATEGORIES:DCA Events
DESCRIPTION:<p>Today is the last school day for 4K and 5K.</p>
DTSTART:20210611T000000Z
DTEND:20210611T235959Z
SUMMARY:Last School Day for 4K and 5K
URL:https://www.denbighchristianacademy.com/index.php/school-calendar/dca-e
 vents/11-dca-events/333-last-school-day-for-4k-and-5k
X-ALT-DESC;FMTTYPE=TEXT/HTML:<p>Today is the last school day for 4K and 5K.
 </p>
END:VEVENT
END:VCALENDAR
