BEGIN:VCALENDAR
VERSION:2.0
PRODID:-//https://www.denbighchristianacademy.com//NONSGML kigkonsult.se iC
 alcreator 2.29.29//
CALSCALE:GREGORIAN
METHOD:PUBLISH
UID:a4c7702e-1774-47e6-8593-464583b1091c
X-WR-CALNAME:JCal Pro Calendar
X-WR-CALDESC:Your online events calendar
X-WR-TIMEZONE:UTC
BEGIN:VTIMEZONE
TZID:UTC
END:VTIMEZONE
BEGIN:VEVENT
UID:20210604T190000UTC-486168h3hG@http://www.denbighchristianacademy.com/
DTSTAMP:20260425T024228Z
CATEGORIES:DCA Events
DESCRIPTION:<p>Summer Fun Day</p>
DTSTART:20210604T000000Z
DTEND:20210604T235959Z
SUMMARY:Summer Fun Day
URL:https://www.denbighchristianacademy.com/index.php/school-calendar/dca-e
 vents/11-dca-events/331-summer-fun-day
X-ALT-DESC;FMTTYPE=TEXT/HTML:<p>Summer Fun Day</p>
END:VEVENT
END:VCALENDAR
