BEGIN:VCALENDAR
VERSION:2.0
PRODID:-//https://www.denbighchristianacademy.com//NONSGML kigkonsult.se iC
 alcreator 2.29.29//
CALSCALE:GREGORIAN
METHOD:PUBLISH
UID:9f556adb-b7c0-4bb5-a6a9-f9cf7edc7b56
X-WR-CALNAME:JCal Pro Calendar
X-WR-CALDESC:Your online events calendar
X-WR-TIMEZONE:UTC
BEGIN:VTIMEZONE
TZID:UTC
END:VTIMEZONE
BEGIN:VEVENT
UID:20210420T200000UTC-0226udI5Fa@http://www.denbighchristianacademy.com/
DTSTAMP:20260425T035819Z
CATEGORIES:DCA Events
DESCRIPTION:<p>Spring and Class Pictures will be taken<br />for 3 Year Olds
  beginning at 8:30 am.</p>
DTSTART:20210420T000000Z
DTEND:20210420T235959Z
SUMMARY:Spring and Class Pictures for 3 Year Olds - 8:30 am
URL:https://www.denbighchristianacademy.com/index.php/school-calendar/dca-e
 vents/11-dca-events/307-spring-and-class-pictures-for-3-year-olds-8-30-am
X-ALT-DESC;FMTTYPE=TEXT/HTML:<p>Spring and Class Pictures will be taken<br 
 />for 3 Year Olds beginning at 8:30 am.</p>
END:VEVENT
END:VCALENDAR
