BEGIN:VCALENDAR
VERSION:2.0
PRODID:-//https://www.denbighchristianacademy.com//NONSGML kigkonsult.se iC
 alcreator 2.29.29//
CALSCALE:GREGORIAN
METHOD:PUBLISH
UID:fdf965b4-a9ee-452b-a0b4-d60df88e23b3
X-WR-CALNAME:JCal Pro Calendar
X-WR-CALDESC:Your online events calendar
X-WR-TIMEZONE:UTC
BEGIN:VTIMEZONE
TZID:UTC
END:VTIMEZONE
BEGIN:VEVENT
UID:20210129T190000UTC-7738Czwwv8@http://www.denbighchristianacademy.com/
DTSTAMP:20260425T010243Z
CATEGORIES:DCA Events
DESCRIPTION:<p>Students can wear outfit representing a sport.</p>
DTSTART:20210129T000000Z
DTEND:20210129T235959Z
SUMMARY:Sport Day
URL:https://www.denbighchristianacademy.com/index.php/school-calendar/dca-e
 vents/11-dca-events/294-sport-day
X-ALT-DESC;FMTTYPE=TEXT/HTML:<p>Students can wear outfit representing a spo
 rt.</p>
END:VEVENT
END:VCALENDAR
