BEGIN:VCALENDAR
VERSION:2.0
PRODID:-//https://www.denbighchristianacademy.com//NONSGML kigkonsult.se iC
 alcreator 2.29.29//
CALSCALE:GREGORIAN
METHOD:PUBLISH
UID:babe667d-cf28-48b9-bc3f-c937f0521087
X-WR-CALNAME:JCal Pro Calendar
X-WR-CALDESC:Your online events calendar
X-WR-TIMEZONE:UTC
BEGIN:VTIMEZONE
TZID:UTC
END:VTIMEZONE
BEGIN:VEVENT
UID:20210104T200000UTC-6608Zx8biN@http://www.denbighchristianacademy.com/
DTSTAMP:20260425T010244Z
CATEGORIES:DCA Events
DESCRIPTION:<p>Students return&nbsp\;</p>
DTSTART:20210104T000000Z
DTEND:20210104T235959Z
SUMMARY:School Reopens
URL:https://www.denbighchristianacademy.com/index.php/school-calendar/dca-e
 vents/11-dca-events/283-school-reopens
X-ALT-DESC;FMTTYPE=TEXT/HTML:<p>Students return&nbsp\;</p>
END:VEVENT
END:VCALENDAR
