BEGIN:VCALENDAR
VERSION:2.0
PRODID:-//https://www.denbighchristianacademy.com//NONSGML kigkonsult.se iC
 alcreator 2.29.29//
CALSCALE:GREGORIAN
METHOD:PUBLISH
UID:2a90d23f-9b51-4851-be45-fe55189634be
X-WR-CALNAME:JCal Pro Calendar
X-WR-CALDESC:Your online events calendar
X-WR-TIMEZONE:UTC
BEGIN:VTIMEZONE
TZID:UTC
END:VTIMEZONE
BEGIN:VEVENT
UID:20200401T160000UTC-4536UFXTWx@http://dca.37west.com/
DTSTAMP:20260424T234120Z
CATEGORIES:DCA Events
DTSTART:20200401T000000Z
DTEND:20200401T235959Z
SUMMARY:Third Marking Reports issued (4K-5K)
URL:https://www.denbighchristianacademy.com/index.php/school-calendar/dca-e
 vents/11-dca-events/34-third-marking-reports-issued-4k-5k
END:VEVENT
END:VCALENDAR
