BEGIN:VCALENDAR
VERSION:2.0
PRODID:-//https://www.denbighchristianacademy.com//NONSGML kigkonsult.se iC
 alcreator 2.29.29//
CALSCALE:GREGORIAN
METHOD:PUBLISH
UID:cb171337-92f3-4440-8718-4f966c0c785a
X-WR-CALNAME:JCal Pro Calendar
X-WR-CALDESC:Your online events calendar
X-WR-TIMEZONE:UTC
BEGIN:VTIMEZONE
TZID:UTC
END:VTIMEZONE
BEGIN:VEVENT
UID:20200228T160000UTC-4301BipBAu@http://dca.37west.com/
DTSTAMP:20260425T024340Z
CATEGORIES:DCA Events
DTSTART:20200228T000000Z
DTEND:20200228T235959Z
SUMMARY:Third Interim Period ends (4K-5K)
URL:https://www.denbighchristianacademy.com/index.php/school-calendar/dca-e
 vents/11-dca-events/29-third-interim-period-ends-4k-5k
END:VEVENT
BEGIN:VEVENT
UID:20200228T160000UTC-9809DdNXVN@http://dca.37west.com/
DTSTAMP:20260425T024340Z
CATEGORIES:DCA Events
DTSTART:20200228T000000Z
DTEND:20200228T235959Z
SUMMARY:Community Helper Day
URL:https://www.denbighchristianacademy.com/index.php/school-calendar/dca-e
 vents/11-dca-events/30-community-helper-day
END:VEVENT
END:VCALENDAR
