BEGIN:VCALENDAR
VERSION:2.0
PRODID:-//https://www.denbighchristianacademy.com//NONSGML kigkonsult.se iC
 alcreator 2.29.29//
CALSCALE:GREGORIAN
METHOD:PUBLISH
UID:679d18f3-0e51-498f-a091-0fa162f15ead
X-WR-CALNAME:JCal Pro Calendar
X-WR-CALDESC:Your online events calendar
X-WR-TIMEZONE:UTC
BEGIN:VTIMEZONE
TZID:UTC
END:VTIMEZONE
BEGIN:VEVENT
UID:20191220T180000UTC-1348CtWFCt@http://dca.37west.com/
DTSTAMP:20260425T030827Z
CATEGORIES:DCA Events
DTSTART:20191220T000000Z
DTEND:20191220T235959Z
SUMMARY:Red & Green Day
URL:https://www.denbighchristianacademy.com/index.php/school-calendar/dca-e
 vents/11-dca-events/20-red-green-day
END:VEVENT
END:VCALENDAR
