BEGIN:VCALENDAR
VERSION:2.0
PRODID:-//https://www.denbighchristianacademy.com//NONSGML kigkonsult.se iC
 alcreator 2.29.29//
CALSCALE:GREGORIAN
METHOD:PUBLISH
UID:5a34f945-4ca3-43ba-99ec-af7e3c5e2cdd
X-WR-CALNAME:JCal Pro Calendar
X-WR-CALDESC:Your online events calendar
X-WR-TIMEZONE:UTC
BEGIN:VTIMEZONE
TZID:UTC
END:VTIMEZONE
BEGIN:VEVENT
UID:20190927T060000UTC-8759APKUIz@http://dca.37west.com/
DTSTAMP:20260425T030755Z
CATEGORIES:DCA Events
DTSTART:20190927T000000Z
DTEND:20190927T235959Z
SUMMARY:Crazy Hat Day
URL:https://www.denbighchristianacademy.com/index.php/school-calendar/dca-e
 vents/11-dca-events/6-crazy-hat-day
END:VEVENT
END:VCALENDAR
