BEGIN:VCALENDAR
VERSION:2.0
PRODID:-//https://www.denbighchristianacademy.com//NONSGML kigkonsult.se iC
 alcreator 2.29.29//
CALSCALE:GREGORIAN
METHOD:PUBLISH
UID:0c30b2d0-6327-430b-a580-a7e75e24e090
X-WR-CALNAME:JCal Pro Calendar
X-WR-CALDESC:Your online events calendar
X-WR-TIMEZONE:UTC
BEGIN:VTIMEZONE
TZID:UTC
END:VTIMEZONE
BEGIN:VEVENT
UID:20190822T083000UTC-9024RO2eeu@http://dca.37west.com/
DTSTAMP:20260425T014312Z
CATEGORIES:DCA Events
DESCRIPTION:<p>Leave 8:30 am – Return around 1:30 pm<br />Cost $2\, Bring a
  bag lunch and bottle of water<br />With child’s name on them.</p>
DTSTART:20190822T083000Z
DTEND:20190822T133000Z
SUMMARY:Fort Fun\, Huntington Park in Newport News\,
URL:https://www.denbighchristianacademy.com/index.php/school-calendar/dca-e
 vents/11-dca-events/35-fort-fun-huntington-park-in-newport-news
X-ALT-DESC;FMTTYPE=TEXT/HTML:<p>Leave 8:30 am – Return around 1:30 pm<br />
 Cost $2\, Bring a bag lunch and bottle of water<br />With child’s name on 
 them.</p>
END:VEVENT
END:VCALENDAR
