BEGIN:VCALENDAR
VERSION:2.0
PRODID:-//https://www.denbighchristianacademy.com//NONSGML kigkonsult.se iC
 alcreator 2.29.29//
CALSCALE:GREGORIAN
METHOD:PUBLISH
UID:e9bb27dc-eea0-4e03-b3c5-57cd058fc340
X-WR-CALNAME:JCal Pro Calendar
X-WR-CALDESC:Your online events calendar
X-WR-TIMEZONE:UTC
BEGIN:VTIMEZONE
TZID:UTC
END:VTIMEZONE
BEGIN:VEVENT
UID:20260401T140000UTC-0236VWeSLV@https://www.denbighchristianacademy.com/
DTSTAMP:20260424T020814Z
CATEGORIES:DCA Events
DESCRIPTION:<p>The three year old classrooms will have their student and cl
 ass photos taken today beginning around 8:30.</p>
DTSTART:20260401T000000Z
DTEND:20260401T235959Z
SUMMARY:3 Year Classes Student Photos
URL:https://www.denbighchristianacademy.com/index.php/school-calendar/dca-e
 vents/11-dca-events/1805-3-year-classes-student-photos
X-ALT-DESC;FMTTYPE=TEXT/HTML:<p>The three year old classrooms will have the
 ir student and class photos taken today beginning around 8:30.</p>
END:VEVENT
BEGIN:VEVENT
UID:20260402T140000UTC-42840cr32P@https://www.denbighchristianacademy.com/
DTSTAMP:20260424T020814Z
CATEGORIES:DCA Events
DESCRIPTION:<p>The 4K and 5K classes will have their student\, class\, and 
 cap and gown photos taken today beginning around 8:30.</p>
DTSTART:20260402T000000Z
DTEND:20260402T235959Z
SUMMARY:4K & 5K Student Photos
URL:https://www.denbighchristianacademy.com/index.php/school-calendar/dca-e
 vents/11-dca-events/1806-4k-5k-student-photos
X-ALT-DESC;FMTTYPE=TEXT/HTML:<p>The 4K and 5K classes will have their stude
 nt\, class\, and cap and gown photos taken today beginning around 8:30.</p
 >
END:VEVENT
BEGIN:VEVENT
UID:20260406T140000UTC-4673t2MOc3@https://www.denbighchristianacademy.com/
DTSTAMP:20260424T020814Z
CATEGORIES:DCA Events
DESCRIPTION:<p>All of DCA is closed today in observance of Resurrection Mon
 day.</p>
DTSTART:20260406T000000Z
DTEND:20260406T235959Z
SUMMARY:Resurrection Monday - All of DCA CLOSED
URL:https://www.denbighchristianacademy.com/index.php/school-calendar/dca-e
 vents/11-dca-events/1807-resurrection-monday-all-of-dca-closed
X-ALT-DESC;FMTTYPE=TEXT/HTML:<p>All of DCA is closed today in observance of
  Resurrection Monday.</p>
END:VEVENT
BEGIN:VEVENT
UID:20260407T060000UTC-3374sPpR7E@https://www.denbighchristianacademy.com/
DTSTAMP:20260424T020814Z
CATEGORIES:DCA Events
DESCRIPTION:<p>Classes for 4K and 5K are closed for Spring Break. Preschool
  and childcare\; however\, are open.</p>
DTSTART:20260407T060000Z
DTEND:20260411T154800Z
SUMMARY:Spring Break (4k-5k Closed) Daycare Open
URL:https://www.denbighchristianacademy.com/index.php/school-calendar/dca-e
 vents/11-dca-events/1808-spring-break-4k-5k-closed-daycare-open
X-ALT-DESC;FMTTYPE=TEXT/HTML:<p>Classes for 4K and 5K are closed for Spring
  Break. Preschool and childcare\; however\, are open.</p>
END:VEVENT
BEGIN:VEVENT
UID:20260417T140000UTC-8347LznJVC@https://www.denbighchristianacademy.com/
DTSTAMP:20260424T020814Z
CATEGORIES:DCA Events
DESCRIPTION:<p>Students can wear their pajamas to school today.&nbsp\;</p>
DTSTART:20260417T000000Z
DTEND:20260417T235959Z
SUMMARY:Pajama Day
URL:https://www.denbighchristianacademy.com/index.php/school-calendar/dca-e
 vents/11-dca-events/1809-pajama-day
X-ALT-DESC;FMTTYPE=TEXT/HTML:<p>Students can wear their pajamas to school t
 oday.&nbsp\;</p>
END:VEVENT
BEGIN:VEVENT
UID:20260423T140000UTC-8331eGGVmt@https://www.denbighchristianacademy.com/
DTSTAMP:20260424T020814Z
CATEGORIES:DCA Events
DESCRIPTION:<p>Grandparent's are being celebrated today with the day starti
 ng off in the sanctuary at 9:15 a.m.</p>
DTSTART:20260423T000000Z
DTEND:20260423T235959Z
SUMMARY:Grandparent's Day - 9:15 am in the Sanctuary
URL:https://www.denbighchristianacademy.com/index.php/school-calendar/dca-e
 vents/11-dca-events/1810-grandparent-s-day-9-15-am-in-the-sanctuary
X-ALT-DESC;FMTTYPE=TEXT/HTML:<p>Grandparent's are being celebrated today wi
 th the day starting off in the sanctuary at 9:15 a.m.</p>
END:VEVENT
BEGIN:VEVENT
UID:20260501T140000UTC-11877WTtf7@https://www.denbighchristianacademy.com/
DTSTAMP:20260424T020814Z
CATEGORIES:DCA Events
DESCRIPTION:<p>The fourth interim period ends today for 4K and 5K)</p>
DTSTART:20260501T000000Z
DTEND:20260501T235959Z
SUMMARY:4th Interim Period ends (4K & 5K)
URL:https://www.denbighchristianacademy.com/index.php/school-calendar/dca-e
 vents/11-dca-events/1811-4th-interim-period-ends-4k-5k
X-ALT-DESC;FMTTYPE=TEXT/HTML:<p>The fourth interim period ends today for 4K
  and 5K)</p>
END:VEVENT
BEGIN:VEVENT
UID:20260504T060000UTC-5225e34bUI@https://www.denbighchristianacademy.com/
DTSTAMP:20260424T020814Z
CATEGORIES:DCA Events
DESCRIPTION:<p>This week is National Teacher Appreciation Week. Let's celeb
 rate them this week!</p>
DTSTART:20260504T060000Z
DTEND:20260508T180000Z
SUMMARY:National Teacher Appreciation Week
URL:https://www.denbighchristianacademy.com/index.php/school-calendar/dca-e
 vents/11-dca-events/1812-national-teacher-appreciation-week
X-ALT-DESC;FMTTYPE=TEXT/HTML:<p>This week is National Teacher Appreciation 
 Week. Let's celebrate them this week!</p>
END:VEVENT
BEGIN:VEVENT
UID:20260506T150000UTC-5632vPzbu7@https://www.denbighchristianacademy.com/
DTSTAMP:20260424T020814Z
CATEGORIES:DCA Events
DESCRIPTION:<p>The fourth interim reports will go home today with 4K and 5K
 . Please sign and return tomorrow.</p>
DTSTART:20260506T000000Z
DTEND:20260506T235959Z
SUMMARY:4th Interim Reports issued (4K & 5K)
URL:https://www.denbighchristianacademy.com/index.php/school-calendar/dca-e
 vents/11-dca-events/1813-4th-interim-reports-issued-4k-5k
X-ALT-DESC;FMTTYPE=TEXT/HTML:<p>The fourth interim reports will go home tod
 ay with 4K and 5K. Please sign and return tomorrow.</p>
END:VEVENT
BEGIN:VEVENT
UID:20260515T150000UTC-17726wlwRu@https://www.denbighchristianacademy.com/
DTSTAMP:20260424T020814Z
CATEGORIES:DCA Events
DESCRIPTION:<p>Today is Summer Fun Day. Teachers will have fun activities f
 or their class.</p>
DTSTART:20260515T000000Z
DTEND:20260515T235959Z
SUMMARY:Summer Fun Day (Spirit Day)
URL:https://www.denbighchristianacademy.com/index.php/school-calendar/dca-e
 vents/11-dca-events/1814-summer-fun-day-spirit-day
X-ALT-DESC;FMTTYPE=TEXT/HTML:<p>Today is Summer Fun Day. Teachers will have
  fun activities for their class.</p>
END:VEVENT
BEGIN:VEVENT
UID:20260525T150000UTC-8945cTdCOS@https://www.denbighchristianacademy.com/
DTSTAMP:20260424T020814Z
CATEGORIES:DCA Events
DESCRIPTION:<p>DCA is closed today in observance of Memorial Day.</p>
DTSTART:20260525T000000Z
DTEND:20260525T235959Z
SUMMARY:Memorial Day - All of DCA CLOSED
URL:https://www.denbighchristianacademy.com/index.php/school-calendar/dca-e
 vents/11-dca-events/1815-memorial-day-all-of-dca-closed
X-ALT-DESC;FMTTYPE=TEXT/HTML:<p>DCA is closed today in observance of Memori
 al Day.</p>
END:VEVENT
BEGIN:VEVENT
UID:20260605T150000UTC-0797dVIPR6@https://www.denbighchristianacademy.com/
DTSTAMP:20260424T020814Z
CATEGORIES:DCA Events
DESCRIPTION:<p>Today is Graduation Day for 5K and Awards Day for 4K. 5K Gra
 duation will begin at 8:30 in the sanctuary and then the Awards ceremony w
 ill begin at 10:00 for 4K in the sanctuary.</p>
DTSTART:20260605T000000Z
DTEND:20260605T235959Z
SUMMARY:5K Graduation 8:30 a.m. and 4K Awards 10:00 a.m.
URL:https://www.denbighchristianacademy.com/index.php/school-calendar/dca-e
 vents/11-dca-events/1816-5k-graduation-8-30-a-m-and-4k-awards-10-00-a-m
X-ALT-DESC;FMTTYPE=TEXT/HTML:<p>Today is Graduation Day for 5K and Awards D
 ay for 4K. 5K Graduation will begin at 8:30 in the sanctuary and then the 
 Awards ceremony will begin at 10:00 for 4K in the sanctuary.</p>
END:VEVENT
BEGIN:VEVENT
UID:20260605T150000UTC-0383ujvWIr@https://www.denbighchristianacademy.com/
DTSTAMP:20260424T020814Z
CATEGORIES:DCA Events
DESCRIPTION:<p>Today is the last official day of school for 4K and 5K. The 
 Summer Program and child care is available for those that registered.</p>
DTSTART:20260605T000000Z
DTEND:20260605T235959Z
SUMMARY:Last School Day for 4K & 5K
URL:https://www.denbighchristianacademy.com/index.php/school-calendar/dca-e
 vents/11-dca-events/1817-last-school-day-for-4k-5k
X-ALT-DESC;FMTTYPE=TEXT/HTML:<p>Today is the last official day of school fo
 r 4K and 5K. The Summer Program and child care is available for those that
  registered.</p>
END:VEVENT
BEGIN:VEVENT
UID:20260615T150000UTC-2059BC9Iv6@https://www.denbighchristianacademy.com/
DTSTAMP:20260424T020814Z
CATEGORIES:DCA Events
DESCRIPTION:<p>Summer Enrichment begins today for those that are registered
  for summer.</p>
DTSTART:20260615T000000Z
DTEND:20260615T235959Z
SUMMARY:Summer Enrichment Officially Begins
URL:https://www.denbighchristianacademy.com/index.php/school-calendar/dca-e
 vents/11-dca-events/1818-summer-enrichment-officially-begins
X-ALT-DESC;FMTTYPE=TEXT/HTML:<p>Summer Enrichment begins today for those th
 at are registered for summer.</p>
END:VEVENT
BEGIN:VEVENT
UID:20260619T150000UTC-3374SUTUb9@https://www.denbighchristianacademy.com/
DTSTAMP:20260424T020814Z
CATEGORIES:DCA Events
DESCRIPTION:<p>All of DCA is closed today in observance of Juneteenth.</p>
DTSTART:20260619T000000Z
DTEND:20260619T235959Z
SUMMARY:Juneteenth - All of DCA CLOSED
URL:https://www.denbighchristianacademy.com/index.php/school-calendar/dca-e
 vents/11-dca-events/1819-juneteenth-all-of-dca-closed
X-ALT-DESC;FMTTYPE=TEXT/HTML:<p>All of DCA is closed today in observance of
  Juneteenth.</p>
END:VEVENT
END:VCALENDAR
