BEGIN:VCALENDAR
VERSION:2.0
PRODID:-//https://www.denbighchristianacademy.com//NONSGML kigkonsult.se iC
 alcreator 2.29.29//
CALSCALE:GREGORIAN
METHOD:PUBLISH
UID:0232c6e7-383e-465c-bdf5-3513bbb8bcc4
X-WR-CALNAME:JCal Pro Calendar
X-WR-CALDESC:Your online events calendar
X-WR-TIMEZONE:UTC
BEGIN:VTIMEZONE
TZID:UTC
END:VTIMEZONE
BEGIN:VEVENT
UID:20230420T083000UTC-5004w28gGu@https://www.denbighchristianacademy.com/
DTSTAMP:20260425T032807Z
CATEGORIES:DCA Events
DESCRIPTION:<p>Spring pictures will be taken for 4 and 5K today along with 
 cap and gown pictures for 5K.</p>
DTSTART:20230420T083000Z
DTEND:20230420T093000Z
SUMMARY:Spring Pictures for 4K and 5K(cap & gown also for 5K) begins at 8:3
 0 a.m.
URL:https://www.denbighchristianacademy.com/index.php/school-calendar/dca-e
 vents/11-dca-events/983-spring-pictures-for-4k-and-5k-cap-gown-also-for-5k
 -begins-at-8-30-a-m
X-ALT-DESC;FMTTYPE=TEXT/HTML:<p>Spring pictures will be taken for 4 and 5K 
 today along with cap and gown pictures for 5K.</p>
END:VEVENT
END:VCALENDAR
