BEGIN:VCALENDAR
VERSION:2.0
PRODID:-//https://www.denbighchristianacademy.com//NONSGML kigkonsult.se iC
 alcreator 2.29.29//
CALSCALE:GREGORIAN
METHOD:PUBLISH
UID:fd53beec-1a2c-41da-9488-51f8f4fdc1bb
X-WR-CALNAME:JCal Pro Calendar
X-WR-CALDESC:Your online events calendar
X-WR-TIMEZONE:UTC
BEGIN:VTIMEZONE
TZID:UTC
END:VTIMEZONE
BEGIN:VEVENT
UID:20230302T060000UTC-6735W2fk9X@https://www.denbighchristianacademy.com/
DTSTAMP:20260425T031711Z
CATEGORIES:DCA Events
DESCRIPTION:<p>Students may have activities celebrating Dr. Seuss Day.</p>
DTSTART:20230302T000000Z
DTEND:20230302T235959Z
SUMMARY:Dr. Seuss Day
URL:https://www.denbighchristianacademy.com/index.php/school-calendar/dca-e
 vents/11-dca-events/976-dr-seuss-day
X-ALT-DESC;FMTTYPE=TEXT/HTML:<p>Students may have activities celebrating Dr
 . Seuss Day.</p>
END:VEVENT
END:VCALENDAR
