BEGIN:VCALENDAR
VERSION:2.0
PRODID:-//https://www.denbighchristianacademy.com//NONSGML kigkonsult.se iC
 alcreator 2.29.29//
CALSCALE:GREGORIAN
METHOD:PUBLISH
UID:c1dcfa04-340a-45db-95ab-9e17be80da3e
X-WR-CALNAME:JCal Pro Calendar
X-WR-CALDESC:Your online events calendar
X-WR-TIMEZONE:UTC
BEGIN:VTIMEZONE
TZID:UTC
END:VTIMEZONE
BEGIN:VEVENT
UID:20220915T170000UTC-2690GlVATn@https://www.denbighchristianacademy.com/
DTSTAMP:20260425T031324Z
CATEGORIES:DCA Events
DESCRIPTION:<p>DCA will be closed for Christmas break today through January
  1\, 2023.</p>
DTSTART:20221219T060000Z
DTEND:20221223T180000Z
SUMMARY:DCA CLOSED for Christmas Holiday 12/19/22 - 12/23/22
URL:https://www.denbighchristianacademy.com/index.php/school-calendar/dca-e
 vents/11-dca-events/964-dca-closed-for-christmas-holiday-12-19-22-1-1-23
X-ALT-DESC;FMTTYPE=TEXT/HTML:<p>DCA will be closed for Christmas break toda
 y through January 1\, 2023.</p>
END:VEVENT
END:VCALENDAR
