BEGIN:VCALENDAR
VERSION:2.0
PRODID:-//https://www.denbighchristianacademy.com//NONSGML kigkonsult.se iC
 alcreator 2.29.29//
CALSCALE:GREGORIAN
METHOD:PUBLISH
UID:20915f16-e89b-4b5d-ae3c-8e795d7aa674
X-WR-CALNAME:JCal Pro Calendar
X-WR-CALDESC:Your online events calendar
X-WR-TIMEZONE:UTC
BEGIN:VTIMEZONE
TZID:UTC
END:VTIMEZONE
BEGIN:VEVENT
UID:20221118T170000UTC-277146l1ON@https://www.denbighchristianacademy.com/
DTSTAMP:20260425T013610Z
CATEGORIES:DCA Events
DESCRIPTION:<p>Students can wear western style clothing.</p>
DTSTART:20221118T000000Z
DTEND:20221118T235959Z
SUMMARY:Western Day
URL:https://www.denbighchristianacademy.com/index.php/school-calendar/dca-e
 vents/11-dca-events/958-western-day
X-ALT-DESC;FMTTYPE=TEXT/HTML:<p>Students can wear western style clothing.</
 p>
END:VEVENT
END:VCALENDAR
