BEGIN:VCALENDAR
VERSION:2.0
PRODID:-//https://www.denbighchristianacademy.com//NONSGML kigkonsult.se iC
 alcreator 2.29.29//
CALSCALE:GREGORIAN
METHOD:PUBLISH
UID:bfbadeb4-0456-464a-a29b-3bda6395e51b
X-WR-CALNAME:JCal Pro Calendar
X-WR-CALDESC:Your online events calendar
X-WR-TIMEZONE:UTC
BEGIN:VTIMEZONE
TZID:UTC
END:VTIMEZONE
BEGIN:VEVENT
UID:20220419T083000UTC-3268UVgTVo@http://www.denbighchristianacademy.com/
DTSTAMP:20260425T015018Z
CATEGORIES:DCA Events
DESCRIPTION:<p>Spring pictures will be taken today for the 2 and 2 1/2 year
  olds beginning at 8:30 a.m.</p>
DTSTART:20220419T083000Z
DTEND:20220419T083000Z
SUMMARY:2 - 2 1/2 Year Preschool Spring Pictures
URL:https://www.denbighchristianacademy.com/index.php/school-calendar/dca-e
 vents/11-dca-events/693-2-2-1-2-year-preschool-spring-pictures
X-ALT-DESC;FMTTYPE=TEXT/HTML:<p>Spring pictures will be taken today for the
  2 and 2 1/2 year olds beginning at 8:30 a.m.</p>
END:VEVENT
END:VCALENDAR
