BEGIN:VCALENDAR
VERSION:2.0
PRODID:-//https://www.denbighchristianacademy.com//NONSGML kigkonsult.se iC
 alcreator 2.29.29//
CALSCALE:GREGORIAN
METHOD:PUBLISH
UID:1df5ee0d-cc31-4300-b579-e1e770d47db1
X-WR-CALNAME:JCal Pro Calendar
X-WR-CALDESC:Your online events calendar
X-WR-TIMEZONE:UTC
BEGIN:VTIMEZONE
TZID:UTC
END:VTIMEZONE
BEGIN:VEVENT
UID:20220302T070000UTC-5648cIHHtf@http://www.denbighchristianacademy.com/
DTSTAMP:20260425T042449Z
CATEGORIES:DCA Events
DESCRIPTION:<p>Dr. Seuss Day</p>
DTSTART:20220302T000000Z
DTEND:20220302T235959Z
SUMMARY:Dr. Seuss Day
URL:https://www.denbighchristianacademy.com/index.php/school-calendar/dca-e
 vents/11-dca-events/665-dr-seuss-day
X-ALT-DESC;FMTTYPE=TEXT/HTML:<p>Dr. Seuss Day</p>
END:VEVENT
END:VCALENDAR
