BEGIN:VCALENDAR
VERSION:2.0
PRODID:-//https://www.denbighchristianacademy.com//NONSGML kigkonsult.se iC
 alcreator 2.29.29//
CALSCALE:GREGORIAN
METHOD:PUBLISH
UID:7aea3a48-ee0f-43d9-933b-a2cff144ea5d
X-WR-CALNAME:JCal Pro Calendar
X-WR-CALDESC:Your online events calendar
X-WR-TIMEZONE:UTC
BEGIN:VTIMEZONE
TZID:UTC
END:VTIMEZONE
BEGIN:VEVENT
UID:20220128T070000UTC-9837778234@http://www.denbighchristianacademy.com/
DTSTAMP:20260425T013814Z
CATEGORIES:DCA Events
DESCRIPTION:<p>Sport Day. Students and staff can wear sports items today.</
 p>
DTSTART:20220128T000000Z
DTEND:20220128T235959Z
SUMMARY:Sport Day
URL:https://www.denbighchristianacademy.com/index.php/school-calendar/dca-e
 vents/11-dca-events/662-sport-day
X-ALT-DESC;FMTTYPE=TEXT/HTML:<p>Sport Day. Students and staff can wear spor
 ts items today.</p>
END:VEVENT
END:VCALENDAR
