BEGIN:VCALENDAR
VERSION:2.0
PRODID:-//https://www.denbighchristianacademy.com//NONSGML kigkonsult.se iC
 alcreator 2.29.29//
CALSCALE:GREGORIAN
METHOD:PUBLISH
UID:66acfecd-4031-46e5-9999-9cf119e50e40
X-WR-CALNAME:JCal Pro Calendar
X-WR-CALDESC:Your online events calendar
X-WR-TIMEZONE:UTC
BEGIN:VTIMEZONE
TZID:UTC
END:VTIMEZONE
BEGIN:VEVENT
UID:20200504T070000UTC-9872a22Dm4@http://dca.37west.com/
DTSTAMP:20260424T221729Z
CATEGORIES:DCA Events
DTSTART:20200504T070000Z
DTEND:20200508T183600Z
SUMMARY:National Teacher Appreciation Week
URL:https://www.denbighchristianacademy.com/index.php/school-calendar/dca-e
 vents/11-dca-events/50-national-teacher-appreciation-week
END:VEVENT
END:VCALENDAR
