BEGIN:VCALENDAR
VERSION:2.0
PRODID:-//https://www.denbighchristianacademy.com//NONSGML kigkonsult.se iC
 alcreator 2.29.29//
CALSCALE:GREGORIAN
METHOD:PUBLISH
UID:31975d39-6136-4f33-931e-e14faf6d9392
X-WR-CALNAME:JCal Pro Calendar
X-WR-CALDESC:Your online events calendar
X-WR-TIMEZONE:UTC
BEGIN:VTIMEZONE
TZID:UTC
END:VTIMEZONE
BEGIN:VEVENT
UID:20200421T083000UTC-7139cPxvUg@http://dca.37west.com/
DTSTAMP:20260424T235700Z
CATEGORIES:DCA Events
DTSTART:20200421T000000Z
DTEND:20200421T235959Z
SUMMARY:Canceled - Preschool Spring Pictures and Class Pictures
URL:https://www.denbighchristianacademy.com/index.php/school-calendar/dca-e
 vents/11-dca-events/46-preschool-spring-pictures-and-class-pictures-starts
 -8-30-am
END:VEVENT
END:VCALENDAR
