BEGIN:VCALENDAR
VERSION:2.0
PRODID:-//https://www.denbighchristianacademy.com//NONSGML kigkonsult.se iC
 alcreator 2.29.29//
CALSCALE:GREGORIAN
METHOD:PUBLISH
UID:6d1d73e7-0c97-4ad1-8d0a-5e8a11d5ced4
X-WR-CALNAME:JCal Pro Calendar
X-WR-CALDESC:Your online events calendar
X-WR-TIMEZONE:UTC
BEGIN:VTIMEZONE
TZID:UTC
END:VTIMEZONE
BEGIN:VEVENT
UID:20190813T140000UTC-8851sGWorx@http://dca.37west.com/
DTSTAMP:20260425T001633Z
CATEGORIES:DCA Events
DTSTART:20190902T000000Z
DTEND:20190902T235959Z
SUMMARY:LABOR DAY – All of DCA Closed
URL:https://www.denbighchristianacademy.com/index.php/school-calendar/dca-e
 vents/11-dca-events/4-labor-day-all-of-dca-closed
END:VEVENT
END:VCALENDAR
