BEGIN:VCALENDAR
VERSION:2.0
PRODID:-//https://www.denbighchristianacademy.com//NONSGML kigkonsult.se iC
 alcreator 2.29.29//
CALSCALE:GREGORIAN
METHOD:PUBLISH
UID:97169dec-a004-4bd4-afb0-377a046cd725
X-WR-CALNAME:JCal Pro Calendar
X-WR-CALDESC:Your online events calendar
X-WR-TIMEZONE:UTC
BEGIN:VTIMEZONE
TZID:UTC
END:VTIMEZONE
BEGIN:VEVENT
UID:20200413T160000UTC-0356RVh9f1@http://dca.37west.com/
DTSTAMP:20260424T235614Z
CATEGORIES:DCA Events
DTSTART:20200413T000000Z
DTEND:20200413T235959Z
SUMMARY:EASTER RESURRECTION MONDAY – All of DCA Closed
URL:https://www.denbighchristianacademy.com/index.php/school-calendar/dca-e
 vents/11-dca-events/38-easter-resurrection-monday-all-of-dca-closed
END:VEVENT
END:VCALENDAR
