BEGIN:VCALENDAR
VERSION:2.0
PRODID:-//https://www.denbighchristianacademy.com//NONSGML kigkonsult.se iC
 alcreator 2.29.29//
CALSCALE:GREGORIAN
METHOD:PUBLISH
UID:579b267a-6f98-435f-b56a-f35592254acc
X-WR-CALNAME:JCal Pro Calendar
X-WR-CALDESC:Your online events calendar
X-WR-TIMEZONE:UTC
BEGIN:VTIMEZONE
TZID:UTC
END:VTIMEZONE
BEGIN:VEVENT
UID:20210621T190000UTC-0958W2xbXi@http://www.denbighchristianacademy.com/
DTSTAMP:20260425T025041Z
CATEGORIES:DCA Events
DESCRIPTION:<p>The DCA Summer program begins for ages<br />2 - 12.</p>
DTSTART:20210621T000000Z
DTEND:20210621T235959Z
SUMMARY:Summer Program Begins for ages 2 - 12
URL:https://www.denbighchristianacademy.com/index.php/school-calendar/dca-e
 vents/11-dca-events/334-summer-program-begins-for-ages-2-12
X-ALT-DESC;FMTTYPE=TEXT/HTML:<p>The DCA Summer program begins for ages<br /
 >2 - 12.</p>
END:VEVENT
END:VCALENDAR
