BEGIN:VCALENDAR
VERSION:2.0
PRODID:-//https://www.denbighchristianacademy.com//NONSGML kigkonsult.se iC
 alcreator 2.29.29//
CALSCALE:GREGORIAN
METHOD:PUBLISH
UID:dbd74868-7981-421c-b121-28117df8f816
X-WR-CALNAME:JCal Pro Calendar
X-WR-CALDESC:Your online events calendar
X-WR-TIMEZONE:UTC
BEGIN:VTIMEZONE
TZID:UTC
END:VTIMEZONE
BEGIN:VEVENT
UID:20200327T160000UTC-0272jBV9Lr@http://dca.37west.com/
DTSTAMP:20260425T011105Z
CATEGORIES:DCA Events
DTSTART:20200327T000000Z
DTEND:20200327T235959Z
SUMMARY:Third Marking Period ends (48 days) (4K-5K)
URL:https://www.denbighchristianacademy.com/index.php/school-calendar/dca-e
 vents/11-dca-events/33-third-marking-period-ends-48-days-4k-5k
END:VEVENT
END:VCALENDAR
