BEGIN:VCALENDAR
VERSION:2.0
PRODID:-//https://www.denbighchristianacademy.com//NONSGML kigkonsult.se iC
 alcreator 2.29.29//
CALSCALE:GREGORIAN
METHOD:PUBLISH
UID:9def82ed-f0c9-4a94-853c-c0dab20e93ff
X-WR-CALNAME:JCal Pro Calendar
X-WR-CALDESC:Your online events calendar
X-WR-TIMEZONE:UTC
BEGIN:VTIMEZONE
TZID:UTC
END:VTIMEZONE
BEGIN:VEVENT
UID:20210519T200000UTC-9190GB9Vvl@http://www.denbighchristianacademy.com/
DTSTAMP:20260425T012142Z
CATEGORIES:DCA Events
DESCRIPTION:<p>Fourth Interim Reports issued for 4K and 5K.</p>
DTSTART:20210519T000000Z
DTEND:20210519T235959Z
SUMMARY:Fourth Interim Reports issued (4K-5K)
URL:https://www.denbighchristianacademy.com/index.php/school-calendar/dca-e
 vents/11-dca-events/321-fourth-interim-reports-issued-4k-5k
X-ALT-DESC;FMTTYPE=TEXT/HTML:<p>Fourth Interim Reports issued for 4K and 5K
 .</p>
END:VEVENT
END:VCALENDAR
