BEGIN:VCALENDAR
VERSION:2.0
PRODID:-//https://www.denbighchristianacademy.com//NONSGML kigkonsult.se iC
 alcreator 2.29.29//
CALSCALE:GREGORIAN
METHOD:PUBLISH
UID:2910449d-16e9-4a2c-806a-641965233129
X-WR-CALNAME:JCal Pro Calendar
X-WR-CALDESC:Your online events calendar
X-WR-TIMEZONE:UTC
BEGIN:VTIMEZONE
TZID:UTC
END:VTIMEZONE
BEGIN:VEVENT
UID:20200304T160000UTC-6188CwSbhk@http://dca.37west.com/
DTSTAMP:20260425T011059Z
CATEGORIES:DCA Events
DTSTART:20200304T000000Z
DTEND:20200304T235959Z
SUMMARY:Third Interim Period Reports issued (4K-5K)
URL:https://www.denbighchristianacademy.com/index.php/school-calendar/dca-e
 vents/11-dca-events/32-third-interim-period-reports-issued-4k-5k
END:VEVENT
END:VCALENDAR
