BEGIN:VCALENDAR
VERSION:2.0
PRODID:-//https://www.denbighchristianacademy.com//NONSGML kigkonsult.se iC
 alcreator 2.29.29//
CALSCALE:GREGORIAN
METHOD:PUBLISH
UID:710407ec-824b-4383-9c23-f81ecbc6bce5
X-WR-CALNAME:JCal Pro Calendar
X-WR-CALDESC:Your online events calendar
X-WR-TIMEZONE:UTC
BEGIN:VTIMEZONE
TZID:UTC
END:VTIMEZONE
BEGIN:VEVENT
UID:20210503T200000UTC-1858F4zo3l@http://www.denbighchristianacademy.com/
DTSTAMP:20260425T012247Z
CATEGORIES:DCA Events
DESCRIPTION:<p>National Teacher Appreciation Week</p>
DTSTART:20210503T080000Z
DTEND:20210507T212200Z
SUMMARY:National Teacher Appreciation Week
URL:https://www.denbighchristianacademy.com/index.php/school-calendar/dca-e
 vents/11-dca-events/319-national-teacher-appreciation-week
X-ALT-DESC;FMTTYPE=TEXT/HTML:<p>National Teacher Appreciation Week</p>
END:VEVENT
END:VCALENDAR
